BEGIN:VCALENDAR
VERSION:2.0
PRODID:-//pretix//SRD_Partyticket//
BEGIN:VEVENT
UID:pretix-FW-MmMPsyche-0@partyticket.de
DTSTART:20210418T160000Z
DTEND:20210418T170000Z
DESCRIPTION:Tickets: https://partyticket.de/FW/MmMPsyche/\nVeranstalter: Fr
 iedensweg
DTSTAMP:20260423T024921Z
LOCATION:München
SUMMARY:Psyche\, Hirn & Corpus Delicti
END:VEVENT
END:VCALENDAR
